BEGIN:VCALENDAR
VERSION:2.0
PRODID:-//Sabre//Sabre VObject 4.5.8//EN
CALSCALE:GREGORIAN
BEGIN:VEVENT
UID:sabre-vobject-ddd6508a-5759-4c57-90c4-7cb058eb0897
DTSTAMP:20260422T135227Z
SUMMARY:Festgottesdienst zum Hochfest
DESCRIPTION:https://pg-eggenthal.de/festgottesdienst-zum-hochfest_id44653
DTSTART;TZID=Europe/Berlin:20260501T100000
DURATION:PT30M
LOCATION:Kirche St. Johannes Baptist Baisweil\, St.-Johannes-Straße 3\, 87
 650 Baisweil
END:VEVENT
END:VCALENDAR
