BEGIN:VCALENDAR
VERSION:2.0
PRODID:-//Sabre//Sabre VObject 4.5.8//EN
CALSCALE:GREGORIAN
BEGIN:VEVENT
UID:sabre-vobject-4ff6bf17-81c2-49c0-9774-07e645214677
DTSTAMP:20260422T135403Z
SUMMARY:Festgottesdienst zum Hochfest in der Seelenkapelle
DESCRIPTION:https://pg-eggenthal.de/festgottesdienst-zum-hochfest-in-der-se
 elenkapelle_id44658
DTSTART;TZID=Europe/Berlin:20260501T083000
DURATION:PT30M
LOCATION:Kirche St. Afra Eggenthal\, Kirchenstraße 10\, 87653 Eggenthal
END:VEVENT
END:VCALENDAR
