BEGIN:VCALENDAR
VERSION:2.0
PRODID:-//Sabre//Sabre VObject 4.5.8//EN
CALSCALE:GREGORIAN
BEGIN:VEVENT
UID:sabre-vobject-52724623-d301-4fff-9cfa-c36416ba23eb
DTSTAMP:20260422T152345Z
SUMMARY:Hl. Messe
DESCRIPTION:https://pg-eggenthal.de/hl-messe_id44659
DTSTART;TZID=Europe/Berlin:20260429T191500
DURATION:PT30M
LOCATION:Kirche St. Afra Eggenthal\, Kirchenstraße 10\, 87653 Eggenthal
END:VEVENT
END:VCALENDAR
