BEGIN:VCALENDAR
VERSION:2.0
PRODID:-//Sabre//Sabre VObject 4.5.8//EN
CALSCALE:GREGORIAN
BEGIN:VEVENT
UID:sabre-vobject-10cde02e-52d8-4aae-9553-691e5da5d48b
DTSTAMP:20260422T135425Z
SUMMARY:Festgottesdienst mit Erstkommunionfeier
DESCRIPTION:https://pg-eggenthal.de/festgottesdienst-mit-erstkommunionfeier
 _id44662
DTSTART;TZID=Europe/Berlin:20260426T100000
DURATION:PT30M
LOCATION:Kirche St. Wolfgang Blöcktach\, Schwarzenburgstraße 8\, 87654 Bl
 öcktach Friesenried
END:VEVENT
END:VCALENDAR
