BEGIN:VCALENDAR
VERSION:2.0
PRODID:-//Sabre//Sabre VObject 4.5.8//EN
CALSCALE:GREGORIAN
BEGIN:VEVENT
UID:sabre-vobject-bd8fdc37-23c8-42cf-9c81-f5da85479ddf
DTSTAMP:20260422T122248Z
SUMMARY:Rosenkranz um Priester und Ordensberufe
DESCRIPTION:https://pg-eggenthal.de/rosenkranz-um-priester-und-ordensberufe
 _id44664
DTSTART;TZID=Europe/Berlin:20260427T080000
DURATION:PT30M
LOCATION:Kirche St. Wolfgang Blöcktach\, Schwarzenburgstraße 8\, 87654 Bl
 öcktach Friesenried
END:VEVENT
END:VCALENDAR
