BEGIN:VCALENDAR
VERSION:2.0
PRODID:-//Sabre//Sabre VObject 4.5.8//EN
CALSCALE:GREGORIAN
BEGIN:VEVENT
UID:sabre-vobject-72f89782-a8b1-4334-8350-66685c29d1f1
DTSTAMP:20260422T135308Z
SUMMARY:Dankandacht mit Opfergabe der Erstkommunionkinder
DESCRIPTION:https://pg-eggenthal.de/dankandacht-mit-opfergabe-der-erstkommu
 nionkinder_id44669
DTSTART;TZID=Europe/Berlin:20260426T163000
DURATION:PT30M
LOCATION:Kirche St. Joseph Friesenried\, Hauptstr. 34\, 87654 Friesenried
END:VEVENT
END:VCALENDAR
