BEGIN:VCALENDAR
VERSION:2.0
PRODID:-//Sabre//Sabre VObject 4.5.8//EN
CALSCALE:GREGORIAN
BEGIN:VEVENT
UID:sabre-vobject-514cd23b-d228-4cf8-b85b-642c6b71c2c7
DTSTAMP:20260422T135409Z
SUMMARY:Rosenkranz um Priester und Ordensberufe
DESCRIPTION:https://pg-eggenthal.de/rosenkranz-um-priester-und-ordensberufe
 _id44670
DTSTART;TZID=Europe/Berlin:20260429T081500
DURATION:PT30M
LOCATION:Kirche St. Joseph Friesenried\, Hauptstr. 34\, 87654 Friesenried
END:VEVENT
END:VCALENDAR
