BEGIN:VCALENDAR
VERSION:2.0
PRODID:-//Sabre//Sabre VObject 4.5.8//EN
CALSCALE:GREGORIAN
BEGIN:VEVENT
UID:sabre-vobject-3364dbf5-adf4-45d1-a819-902233ece957
DTSTAMP:20260422T121402Z
SUMMARY:"Hoigate" im Pfarrstüble
DESCRIPTION:https://pg-eggenthal.de/hoigate-im-pfarrstueble_id44671
DTSTART;TZID=Europe/Berlin:20260429T140000
DURATION:PT30M
LOCATION:Kirche St. Joseph Friesenried\, Hauptstr. 34\, 87654 Friesenried
END:VEVENT
END:VCALENDAR
